BEGIN:VCALENDAR
VERSION:2.0
PRODID:-//Sigrid Merten Konz - - ECPv6.10.1.1//NONSGML v1.0//EN
CALSCALE:GREGORIAN
METHOD:PUBLISH
X-ORIGINAL-URL:https://siggis-kinderevents.de
X-WR-CALDESC:Veranstaltungen für Sigrid Merten Konz -
REFRESH-INTERVAL;VALUE=DURATION:PT1H
X-Robots-Tag:noindex
X-PUBLISHED-TTL:PT1H
BEGIN:VTIMEZONE
TZID:Europe/Berlin
BEGIN:DAYLIGHT
TZOFFSETFROM:+0100
TZOFFSETTO:+0200
TZNAME:CEST
DTSTART:20250330T010000
END:DAYLIGHT
BEGIN:STANDARD
TZOFFSETFROM:+0200
TZOFFSETTO:+0100
TZNAME:CET
DTSTART:20251026T010000
END:STANDARD
END:VTIMEZONE
BEGIN:VEVENT
DTSTART;VALUE=DATE:20251005
DTEND;VALUE=DATE:20251006
DTSTAMP:20260420T132602
CREATED:20250227T105518Z
LAST-MODIFIED:20250227T105518Z
UID:1945-1759622400-1759708799@siggis-kinderevents.de
SUMMARY:Viezfest in Wasserliesch am Nachmittag
DESCRIPTION:Auch hier wird passend etwas zum Thema – wahrscheinlich Herbst – angeboten für die kleinen Besucher. In Wasserliesch waren wir schon sehr oft auf der Kirmes und jetzt dar erste Mal auf dem Viezfest. \nWir freuen uns! \n 
URL:https://siggis-kinderevents.de/event/viezfest-in-wasserliesch-am-nachmittag/
END:VEVENT
BEGIN:VEVENT
DTSTART;TZID=Europe/Berlin:20251012T120000
DTEND;TZID=Europe/Berlin:20251012T173000
DTSTAMP:20260420T132602
CREATED:20250911T183358Z
LAST-MODIFIED:20250911T183358Z
UID:2064-1760270400-1760290200@siggis-kinderevents.de
SUMMARY:Familientag Oktoberfest in Wittlich bei Bungert
DESCRIPTION:
URL:https://siggis-kinderevents.de/event/familientag-oktoberfest-in-wittlich-bei-bungert/
END:VEVENT
BEGIN:VEVENT
DTSTART;TZID=Europe/Berlin:20251019T120000
DTEND;TZID=Europe/Berlin:20251019T173000
DTSTAMP:20260420T132602
CREATED:20250911T183445Z
LAST-MODIFIED:20250911T183445Z
UID:2066-1760875200-1760895000@siggis-kinderevents.de
SUMMARY:Oktoberfest in Wittlich bei Bungert
DESCRIPTION:
URL:https://siggis-kinderevents.de/event/oktoberfest-in-wittlich-bei-bungert/
END:VEVENT
BEGIN:VEVENT
DTSTART;VALUE=DATE:20251025
DTEND;VALUE=DATE:20251026
DTSTAMP:20260420T132602
CREATED:20250227T110001Z
LAST-MODIFIED:20250227T111659Z
UID:1954-1761350400-1761436799@siggis-kinderevents.de
SUMMARY:Kinderwerkstatt Hornbach in Trier - 10 Uhr bis 16 Uhr
DESCRIPTION:Soviel sei verraten: Es geht um das Thema Herbst und Halloween und es wird wieder gemalt\, geklebt\, gehämmert mit Materialien aus dem Baumarkt. Eigene Ideen können verwirklicht werden von den Kindern – aber nicht von den Erwachsenen.
URL:https://siggis-kinderevents.de/event/kinderwerkstatt-hornbach-in-trier-10-uhr-bis-16-uhr-3/
END:VEVENT
BEGIN:VEVENT
DTSTART;VALUE=DATE:20251026
DTEND;VALUE=DATE:20251027
DTSTAMP:20260420T132602
CREATED:20250227T105644Z
LAST-MODIFIED:20250227T112458Z
UID:1947-1761436800-1761523199@siggis-kinderevents.de
SUMMARY:Möbel Ehrmann in Trier verkaufsoffener Sonntag - 13 Uhr bis 18 Uhr
DESCRIPTION:Für die kleinen Kunden gibt Angebote von unserem platzsparendem Kombitisch sowie ein kreatives Angebot. \nLasst euch überraschen! \nWeitere Informationen zu allen öffentlichen Veranstaltungen findet ihr kurz vorher bei Instagramm und Facebook. \n 
URL:https://siggis-kinderevents.de/event/moebel-ehrmann-in-trier-verkaufsoffener-sonntag-13-uhr-bis-18-uhr-2/
END:VEVENT
END:VCALENDAR