BEGIN:VCALENDAR
VERSION:2.0
PRODID:-//Sigrid Merten Konz - - ECPv6.10.1.1//NONSGML v1.0//EN
CALSCALE:GREGORIAN
METHOD:PUBLISH
X-ORIGINAL-URL:https://siggis-kinderevents.de
X-WR-CALDESC:Veranstaltungen für Sigrid Merten Konz -
REFRESH-INTERVAL;VALUE=DURATION:PT1H
X-Robots-Tag:noindex
X-PUBLISHED-TTL:PT1H
BEGIN:VTIMEZONE
TZID:Europe/Helsinki
BEGIN:DAYLIGHT
TZOFFSETFROM:+0200
TZOFFSETTO:+0300
TZNAME:EEST
DTSTART:20240331T010000
END:DAYLIGHT
BEGIN:STANDARD
TZOFFSETFROM:+0300
TZOFFSETTO:+0200
TZNAME:EET
DTSTART:20241027T010000
END:STANDARD
END:VTIMEZONE
BEGIN:VEVENT
DTSTART;VALUE=DATE:20240407
DTEND;VALUE=DATE:20240408
DTSTAMP:20260421T150046
CREATED:20240128T104923Z
LAST-MODIFIED:20240128T104923Z
UID:1843-1712448000-1712534399@siggis-kinderevents.de
SUMMARY:🪑Möbel Ehrmann verkaufsoffener Sonntag - Uhrzeit wird noch bekannt gegeben 🪑
DESCRIPTION:
URL:https://siggis-kinderevents.de/event/%f0%9f%aa%91moebel-ehrmann-verkaufsoffener-sonntag-uhrzeit-wird-noch-bekannt-gegeben-%f0%9f%aa%91/
END:VEVENT
BEGIN:VEVENT
DTSTART;TZID=Europe/Helsinki:20240418T080000
DTEND;TZID=Europe/Helsinki:20240418T170000
DTSTAMP:20260421T150046
CREATED:20240418T155613Z
LAST-MODIFIED:20240418T155643Z
UID:1859-1713427200-1713459600@siggis-kinderevents.de
SUMMARY:Hess und Peters Trier Hausmesse
DESCRIPTION:
URL:https://siggis-kinderevents.de/event/hess-und-peters-trier-hausmesse/
END:VEVENT
BEGIN:VEVENT
DTSTART;TZID=Europe/Helsinki:20240418T080000
DTEND;TZID=Europe/Helsinki:20240418T170000
DTSTAMP:20260421T150046
CREATED:20240418T155814Z
LAST-MODIFIED:20240418T155814Z
UID:1861-1713427200-1713459600@siggis-kinderevents.de
SUMMARY:Hess und Peters Hausmesse
DESCRIPTION:
URL:https://siggis-kinderevents.de/event/hess-und-peters-hausmesse/
END:VEVENT
BEGIN:VEVENT
DTSTART;TZID=Europe/Helsinki:20240420T100000
DTEND;TZID=Europe/Helsinki:20240420T160000
DTSTAMP:20260421T150046
CREATED:20240128T101949Z
LAST-MODIFIED:20240128T104349Z
UID:1814-1713607200-1713628800@siggis-kinderevents.de
SUMMARY:🛠️Kinderwerkstatt bei Hornbach in der Gartenabteilung🛠️
DESCRIPTION:
URL:https://siggis-kinderevents.de/event/kinderwerkstatt-bei-hornbach-in-der-gartenabteilung-4/
END:VEVENT
END:VCALENDAR