BEGIN:VCALENDAR
VERSION:2.0
PRODID:-//Sigrid Merten Konz - - ECPv6.10.1.1//NONSGML v1.0//EN
CALSCALE:GREGORIAN
METHOD:PUBLISH
X-ORIGINAL-URL:https://siggis-kinderevents.de
X-WR-CALDESC:Veranstaltungen für Sigrid Merten Konz -
REFRESH-INTERVAL;VALUE=DURATION:PT1H
X-Robots-Tag:noindex
X-PUBLISHED-TTL:PT1H
BEGIN:VTIMEZONE
TZID:Europe/Helsinki
BEGIN:DAYLIGHT
TZOFFSETFROM:+0200
TZOFFSETTO:+0300
TZNAME:EEST
DTSTART:20230326T010000
END:DAYLIGHT
BEGIN:STANDARD
TZOFFSETFROM:+0300
TZOFFSETTO:+0200
TZNAME:EET
DTSTART:20231029T010000
END:STANDARD
END:VTIMEZONE
BEGIN:VEVENT
DTSTART;VALUE=DATE:20231021
DTEND;VALUE=DATE:20231022
DTSTAMP:20260423T191756
CREATED:20230916T145656Z
LAST-MODIFIED:20230916T145656Z
UID:1788-1697846400-1697932799@siggis-kinderevents.de
SUMMARY:Hornbach Kinderwerkstatt
DESCRIPTION:
URL:https://siggis-kinderevents.de/event/hornbach-kinderwerkstatt-6/
END:VEVENT
BEGIN:VEVENT
DTSTART;VALUE=DATE:20231025
DTEND;VALUE=DATE:20231026
DTSTAMP:20260423T191756
CREATED:20230916T150012Z
LAST-MODIFIED:20230916T150453Z
UID:1790-1698192000-1698278399@siggis-kinderevents.de
SUMMARY:Sparkasse in Trier Ehrang
DESCRIPTION:
URL:https://siggis-kinderevents.de/event/sparkasse-in-trier-ehrang/
END:VEVENT
BEGIN:VEVENT
DTSTART;VALUE=DATE:20231026
DTEND;VALUE=DATE:20231027
DTSTAMP:20260423T191756
CREATED:20230916T150348Z
LAST-MODIFIED:20230916T150348Z
UID:1792-1698278400-1698278400@siggis-kinderevents.de
SUMMARY:Sparkasse Trier Ehrang
DESCRIPTION:
URL:https://siggis-kinderevents.de/event/sparkasse-trier-ehrang/
END:VEVENT
BEGIN:VEVENT
DTSTART;VALUE=DATE:20231029
DTEND;VALUE=DATE:20231030
DTSTAMP:20260423T191756
CREATED:20230916T150623Z
LAST-MODIFIED:20230916T150623Z
UID:1794-1698537600-1698623999@siggis-kinderevents.de
SUMMARY:Möbel Ehrmann verkaufsoffener Sonntag
DESCRIPTION:
URL:https://siggis-kinderevents.de/event/moebel-ehrmann-verkaufsoffener-sonntag-2/
END:VEVENT
END:VCALENDAR