BEGIN:VCALENDAR
VERSION:2.0
PRODID:-//Sigrid Merten Konz - - ECPv6.10.1.1//NONSGML v1.0//EN
CALSCALE:GREGORIAN
METHOD:PUBLISH
X-ORIGINAL-URL:https://siggis-kinderevents.de
X-WR-CALDESC:Veranstaltungen für Sigrid Merten Konz -
REFRESH-INTERVAL;VALUE=DURATION:PT1H
X-Robots-Tag:noindex
X-PUBLISHED-TTL:PT1H
BEGIN:VTIMEZONE
TZID:Europe/Berlin
BEGIN:DAYLIGHT
TZOFFSETFROM:+0100
TZOFFSETTO:+0200
TZNAME:CEST
DTSTART:20250330T010000
END:DAYLIGHT
BEGIN:STANDARD
TZOFFSETFROM:+0200
TZOFFSETTO:+0100
TZNAME:CET
DTSTART:20251026T010000
END:STANDARD
END:VTIMEZONE
BEGIN:VEVENT
DTSTART;TZID=Europe/Berlin:20250914T140000
DTEND;TZID=Europe/Berlin:20250914T170000
DTSTAMP:20260423T122027
CREATED:20250817T164008Z
LAST-MODIFIED:20250817T164008Z
UID:2057-1757858400-1757869200@siggis-kinderevents.de
SUMMARY:Bungert Wittlich verkaufsoffener Sonntag
DESCRIPTION:Kombi -Tisch mit Glitzertattoos und bunten Haarsträhnen zur Auswahl
URL:https://siggis-kinderevents.de/event/bungert-wittlich-verkaufsoffener-sonntag/
END:VEVENT
END:VCALENDAR