BEGIN:VCALENDAR
VERSION:2.0
PRODID:-//Sigrid Merten Konz - - ECPv6.10.1.1//NONSGML v1.0//EN
CALSCALE:GREGORIAN
METHOD:PUBLISH
X-ORIGINAL-URL:https://siggis-kinderevents.de
X-WR-CALDESC:Veranstaltungen für Sigrid Merten Konz -
REFRESH-INTERVAL;VALUE=DURATION:PT1H
X-Robots-Tag:noindex
X-PUBLISHED-TTL:PT1H
BEGIN:VTIMEZONE
TZID:Europe/Helsinki
BEGIN:DAYLIGHT
TZOFFSETFROM:+0200
TZOFFSETTO:+0300
TZNAME:EEST
DTSTART:20240331T010000
END:DAYLIGHT
BEGIN:STANDARD
TZOFFSETFROM:+0300
TZOFFSETTO:+0200
TZNAME:EET
DTSTART:20241027T010000
END:STANDARD
END:VTIMEZONE
BEGIN:VEVENT
DTSTART;TZID=Europe/Helsinki:20240622T100000
DTEND;TZID=Europe/Helsinki:20240622T160000
DTSTAMP:20260421T132704
CREATED:20240128T102635Z
LAST-MODIFIED:20240128T102635Z
UID:1824-1719050400-1719072000@siggis-kinderevents.de
SUMMARY:🛠️ Kinderwerkstatt bei Hornbach in der Gartenabteilung 🛠️
DESCRIPTION:
URL:https://siggis-kinderevents.de/event/%f0%9f%9b%a0%ef%b8%8f-kinderwerkstatt-bei-hornbach-in-der-gartenabteilung-%f0%9f%9b%a0%ef%b8%8f/
END:VEVENT
END:VCALENDAR