BEGIN:VCALENDAR
VERSION:2.0
PRODID:-//Sigrid Merten Konz - - ECPv6.10.1.1//NONSGML v1.0//EN
CALSCALE:GREGORIAN
METHOD:PUBLISH
X-WR-CALNAME:Sigrid Merten Konz -
X-ORIGINAL-URL:https://siggis-kinderevents.de
X-WR-CALDESC:Veranstaltungen für Sigrid Merten Konz -
REFRESH-INTERVAL;VALUE=DURATION:PT1H
X-Robots-Tag:noindex
X-PUBLISHED-TTL:PT1H
BEGIN:VTIMEZONE
TZID:Europe/Helsinki
BEGIN:DAYLIGHT
TZOFFSETFROM:+0200
TZOFFSETTO:+0300
TZNAME:EEST
DTSTART:20230326T010000
END:DAYLIGHT
BEGIN:STANDARD
TZOFFSETFROM:+0300
TZOFFSETTO:+0200
TZNAME:EET
DTSTART:20231029T010000
END:STANDARD
END:VTIMEZONE
BEGIN:VEVENT
DTSTART;VALUE=DATE:20230702
DTEND;VALUE=DATE:20230703
DTSTAMP:20260425T122925
CREATED:20230409T052629Z
LAST-MODIFIED:20230409T053055Z
UID:1701-1688256000-1688342399@siggis-kinderevents.de
SUMMARY:Kirmes in Könen
DESCRIPTION:am Nachmittag
URL:https://siggis-kinderevents.de/event/kirmes-in-koenen/
END:VEVENT
END:VCALENDAR