BEGIN:VCALENDAR
VERSION:2.0
PRODID:-//Sigrid Merten Konz - - ECPv6.10.1.1//NONSGML v1.0//EN
CALSCALE:GREGORIAN
METHOD:PUBLISH
X-ORIGINAL-URL:https://siggis-kinderevents.de
X-WR-CALDESC:Veranstaltungen für Sigrid Merten Konz -
REFRESH-INTERVAL;VALUE=DURATION:PT1H
X-Robots-Tag:noindex
X-PUBLISHED-TTL:PT1H
BEGIN:VTIMEZONE
TZID:Europe/Helsinki
BEGIN:DAYLIGHT
TZOFFSETFROM:+0200
TZOFFSETTO:+0300
TZNAME:EEST
DTSTART:20230326T010000
END:DAYLIGHT
BEGIN:STANDARD
TZOFFSETFROM:+0300
TZOFFSETTO:+0200
TZNAME:EET
DTSTART:20231029T010000
END:STANDARD
END:VTIMEZONE
BEGIN:VEVENT
DTSTART;TZID=Europe/Helsinki:20230528T143000
DTEND;TZID=Europe/Helsinki:20230528T160000
DTSTAMP:20260424T041833
CREATED:20230409T052253Z
LAST-MODIFIED:20230409T144902Z
UID:1696-1685284200-1685289600@siggis-kinderevents.de
SUMMARY:Kinderanimation in Trier Kürenz Schlosspark
DESCRIPTION:Fest im Schlosspark Kürenz
URL:https://siggis-kinderevents.de/event/kinderanimation-in-trier-2/
END:VEVENT
END:VCALENDAR