BEGIN:VCALENDAR
VERSION:2.0
PRODID:-//Sigrid Merten Konz - - ECPv6.10.1.1//NONSGML v1.0//EN
CALSCALE:GREGORIAN
METHOD:PUBLISH
X-ORIGINAL-URL:https://siggis-kinderevents.de
X-WR-CALDESC:Veranstaltungen für Sigrid Merten Konz -
REFRESH-INTERVAL;VALUE=DURATION:PT1H
X-Robots-Tag:noindex
X-PUBLISHED-TTL:PT1H
BEGIN:VTIMEZONE
TZID:Europe/Helsinki
BEGIN:DAYLIGHT
TZOFFSETFROM:+0200
TZOFFSETTO:+0300
TZNAME:EEST
DTSTART:20230326T010000
END:DAYLIGHT
BEGIN:STANDARD
TZOFFSETFROM:+0300
TZOFFSETTO:+0200
TZNAME:EET
DTSTART:20231029T010000
END:STANDARD
END:VTIMEZONE
BEGIN:VEVENT
DTSTART;TZID=Europe/Helsinki:20230205T150000
DTEND;TZID=Europe/Helsinki:20230205T170000
DTSTAMP:20260424T211606
CREATED:20230129T105515Z
LAST-MODIFIED:20230129T105656Z
UID:1680-1675609200-1675616400@siggis-kinderevents.de
SUMMARY:Kinderkappensitzung in Kordel
DESCRIPTION:
URL:https://siggis-kinderevents.de/event/kinderkappensitzung-in-kordel/
END:VEVENT
END:VCALENDAR